BEGIN:VCALENDAR
VERSION:2.0
PRODID:-//Queen Valley Church - ECPv6.15.20//NONSGML v1.0//EN
CALSCALE:GREGORIAN
METHOD:PUBLISH
X-WR-CALNAME:Queen Valley Church
X-ORIGINAL-URL:https://queenvalleychurch.com
X-WR-CALDESC:Events for Queen Valley Church
REFRESH-INTERVAL;VALUE=DURATION:PT1H
X-Robots-Tag:noindex
X-PUBLISHED-TTL:PT1H
BEGIN:VTIMEZONE
TZID:America/Phoenix
BEGIN:STANDARD
TZOFFSETFROM:-0700
TZOFFSETTO:-0700
TZNAME:MST
DTSTART:20200101T000000
END:STANDARD
END:VTIMEZONE
BEGIN:VEVENT
DTSTART;TZID=America/Phoenix:20211006T090000
DTEND;TZID=America/Phoenix:20211006T103000
DTSTAMP:20260423T012920
CREATED:20210916T195454Z
LAST-MODIFIED:20210916T201346Z
UID:1668-1633510800-1633516200@queenvalleychurch.com
SUMMARY:Weekly Florence Bible Study
DESCRIPTION:Join us every Wednesday starting at 9:00am at the Florence Windmill Winery for our in-depth Bible Study. \nFor more details contact us at admin@queenvalleychurch.com
URL:https://queenvalleychurch.com/event/weekly-florence-bible-study-2/
LOCATION:Windmill Winery Lakehouse\, 1140 W Butte Ave\, Florence\, AZ\, 85132\, United States
CATEGORIES:Our Events,Upcoming Events
ATTACH;FMTTYPE=image/jpeg:https://queenvalleychurch.com/wp-content/uploads/2021/03/need_prayer.jpg
END:VEVENT
END:VCALENDAR