BEGIN:VCALENDAR
VERSION:2.0
PRODID:-//Queen Valley Church - ECPv6.15.20//NONSGML v1.0//EN
CALSCALE:GREGORIAN
METHOD:PUBLISH
X-ORIGINAL-URL:https://queenvalleychurch.com
X-WR-CALDESC:Events for Queen Valley Church
REFRESH-INTERVAL;VALUE=DURATION:PT1H
X-Robots-Tag:noindex
X-PUBLISHED-TTL:PT1H
BEGIN:VTIMEZONE
TZID:America/Phoenix
BEGIN:STANDARD
TZOFFSETFROM:-0700
TZOFFSETTO:-0700
TZNAME:MST
DTSTART:20200101T000000
END:STANDARD
END:VTIMEZONE
BEGIN:VEVENT
DTSTART;TZID=America/Phoenix:20211010T090000
DTEND;TZID=America/Phoenix:20211010T120000
DTSTAMP:20260423T013106
CREATED:20210916T212946Z
LAST-MODIFIED:20211009T165534Z
UID:1688-1633856400-1633867200@queenvalleychurch.com
SUMMARY:Sunday Meeting And Fellowship
DESCRIPTION:Join us just as you are at the Church at Queen Valley every Sunday at 9:00am for worship\, service\, Bible teaching and sharing. \nFollowing our meeting spend time getting to know us with our fellowship time and Bible discussion.
URL:https://queenvalleychurch.com/event/sunday-meeting-and-fellowship-4/
LOCATION:The Church At Queen Valley\, 241 N. Queen Anne Drive\, Queen Valley\, 85118\, United States
CATEGORIES:Our Events
ATTACH;FMTTYPE=image/jpeg:https://queenvalleychurch.com/wp-content/uploads/2021/09/DSC_0027-2-scaled.jpg
END:VEVENT
BEGIN:VEVENT
DTSTART;TZID=America/Phoenix:20211010T103000
DTEND;TZID=America/Phoenix:20211010T120000
DTSTAMP:20260423T013106
CREATED:20210918T191850Z
LAST-MODIFIED:20210918T191850Z
UID:1763-1633861800-1633867200@queenvalleychurch.com
SUMMARY:Second Sunday Covered Dish
DESCRIPTION:The Church At Queen Valley enjoys our fellowship time.  That is why every second Sunday after our meetings we share a covered dish and conversation.  Plan on joining us this Sunday!
URL:https://queenvalleychurch.com/event/second-sunday-covered-dish/
LOCATION:The Church At Queen Valley\, 241 N. Queen Anne Drive\, Queen Valley\, 85118\, United States
ATTACH;FMTTYPE=image/jpeg:https://queenvalleychurch.com/wp-content/uploads/2021/09/P9120428-scaled.jpg
END:VEVENT
END:VCALENDAR