BEGIN:VCALENDAR
VERSION:2.0
PRODID:-//Queen Valley Church - ECPv6.15.20//NONSGML v1.0//EN
CALSCALE:GREGORIAN
METHOD:PUBLISH
X-WR-CALNAME:Queen Valley Church
X-ORIGINAL-URL:https://queenvalleychurch.com
X-WR-CALDESC:Events for Queen Valley Church
REFRESH-INTERVAL;VALUE=DURATION:PT1H
X-Robots-Tag:noindex
X-PUBLISHED-TTL:PT1H
BEGIN:VTIMEZONE
TZID:America/Phoenix
BEGIN:STANDARD
TZOFFSETFROM:-0700
TZOFFSETTO:-0700
TZNAME:MST
DTSTART:20200101T000000
END:STANDARD
END:VTIMEZONE
BEGIN:VEVENT
DTSTART;TZID=America/Phoenix:20211114T090000
DTEND;TZID=America/Phoenix:20211114T120000
DTSTAMP:20260422T234742
CREATED:20211112T182237Z
LAST-MODIFIED:20211112T182237Z
UID:1924-1636880400-1636891200@queenvalleychurch.com
SUMMARY:SUNDAY MEETING AND FELLOWSHIP
DESCRIPTION:Join us on Sunday mornings at the Church At Queen Valley\, 9:00am for our meeting and 10:30am for our fellowship time.  11:00am for sermon discussion.
URL:https://queenvalleychurch.com/event/sunday-meeting-and-fellowship-16/
LOCATION:The Church At Queen Valley\, 241 N. Queen Anne Drive\, Queen Valley\, 85118\, United States
END:VEVENT
BEGIN:VEVENT
DTSTART;TZID=America/Phoenix:20211114T103000
DTEND;TZID=America/Phoenix:20211114T120000
DTSTAMP:20260422T234742
CREATED:20210918T192049Z
LAST-MODIFIED:20210918T192049Z
UID:1766-1636885800-1636891200@queenvalleychurch.com
SUMMARY:Second Sunday Covered Dish
DESCRIPTION:The Church At Queen Valley enjoys our fellowship time.  That is why every second Sunday after our meetings we share a covered dish and conversation.  Plan on joining us this Sunday!
URL:https://queenvalleychurch.com/event/second-sunday-covered-dish-2/
LOCATION:The Church At Queen Valley\, 241 N. Queen Anne Drive\, Queen Valley\, 85118\, United States
ATTACH;FMTTYPE=image/jpeg:https://queenvalleychurch.com/wp-content/uploads/2021/03/gallery-56.jpg
END:VEVENT
END:VCALENDAR