BEGIN:VCALENDAR
VERSION:2.0
PRODID:-//Queen Valley Church - ECPv6.15.20//NONSGML v1.0//EN
CALSCALE:GREGORIAN
METHOD:PUBLISH
X-WR-CALNAME:Queen Valley Church
X-ORIGINAL-URL:https://queenvalleychurch.com
X-WR-CALDESC:Events for Queen Valley Church
REFRESH-INTERVAL;VALUE=DURATION:PT1H
X-Robots-Tag:noindex
X-PUBLISHED-TTL:PT1H
BEGIN:VTIMEZONE
TZID:UTC
BEGIN:STANDARD
TZOFFSETFROM:+0000
TZOFFSETTO:+0000
TZNAME:UTC
DTSTART:20200101T000000
END:STANDARD
END:VTIMEZONE
BEGIN:VEVENT
DTSTART;TZID=UTC:20211121T090000
DTEND;TZID=UTC:20211121T120000
DTSTAMP:20260422T234710
CREATED:20211015T182057Z
LAST-MODIFIED:20211015T182057Z
UID:1874-1637485200-1637496000@queenvalleychurch.com
SUMMARY:SUNDAY MEETING AND FELLOWSHIP
DESCRIPTION:Join us just as you are at the Church At Queen Valley every Sunday\, 9:00am for worship\, Bible teaching\, and sharing. \nFollowing our meeting spend time together getting to know us with our fellowship time\, followed by Bible discussion.
URL:https://queenvalleychurch.com/event/sunday-meeting-and-fellowship-9/
LOCATION:The Church At Queen Valley\, 241 N. Queen Anne Drive\, Queen Valley\, 85118\, United States
END:VEVENT
END:VCALENDAR