BEGIN:VCALENDAR
VERSION:2.0
PRODID:-//Queen Valley Church - ECPv6.15.20//NONSGML v1.0//EN
CALSCALE:GREGORIAN
METHOD:PUBLISH
X-WR-CALNAME:Queen Valley Church
X-ORIGINAL-URL:https://queenvalleychurch.com
X-WR-CALDESC:Events for Queen Valley Church
REFRESH-INTERVAL;VALUE=DURATION:PT1H
X-Robots-Tag:noindex
X-PUBLISHED-TTL:PT1H
BEGIN:VTIMEZONE
TZID:UTC
BEGIN:STANDARD
TZOFFSETFROM:+0000
TZOFFSETTO:+0000
TZNAME:UTC
DTSTART:20200101T000000
END:STANDARD
END:VTIMEZONE
BEGIN:VEVENT
DTSTART;TZID=UTC:20211124T090000
DTEND;TZID=UTC:20211124T110000
DTSTAMP:20260422T234741
CREATED:20211015T175705Z
LAST-MODIFIED:20211015T175705Z
UID:1859-1637744400-1637751600@queenvalleychurch.com
SUMMARY:WEEKLY FLORENCE BIBLE STUDY
DESCRIPTION:Join us every Wednesday starting at 9:00am at the Florence Windmill Winery for our in-depth Bible Study. \nFor more details contact us at admin@queenvalleychurch.com
URL:https://queenvalleychurch.com/event/weekly-florence-bible-study-10/
LOCATION:Windmill Winery Lakehouse\, 1140 W Butte Ave\, Florence\, AZ\, 85132\, United States
END:VEVENT
END:VCALENDAR