BEGIN:VCALENDAR
VERSION:2.0
PRODID:-//Queen Valley Church - ECPv6.15.20//NONSGML v1.0//EN
CALSCALE:GREGORIAN
METHOD:PUBLISH
X-ORIGINAL-URL:https://queenvalleychurch.com
X-WR-CALDESC:Events for Queen Valley Church
REFRESH-INTERVAL;VALUE=DURATION:PT1H
X-Robots-Tag:noindex
X-PUBLISHED-TTL:PT1H
BEGIN:VTIMEZONE
TZID:America/Phoenix
BEGIN:STANDARD
TZOFFSETFROM:-0700
TZOFFSETTO:-0700
TZNAME:MST
DTSTART:20200101T000000
END:STANDARD
END:VTIMEZONE
BEGIN:VEVENT
DTSTART;TZID=America/Phoenix:20211128T090000
DTEND;TZID=America/Phoenix:20211128T120000
DTSTAMP:20260422T220907
CREATED:20211015T182345Z
LAST-MODIFIED:20211015T182345Z
UID:1876-1638090000-1638100800@queenvalleychurch.com
SUMMARY:SUNDAY MEETING AND FELLOWSHIP
DESCRIPTION:Join us just as you are on Sunday mornings at 9:00am.  Then stay for fellowship at 10:30 followed by Bible discussion at 11:00am. \n \n 
URL:https://queenvalleychurch.com/event/sunday-meeting-and-fellowship-10/
LOCATION:The Church At Queen Valley\, 241 N. Queen Anne Drive\, Queen Valley\, 85118\, United States
END:VEVENT
END:VCALENDAR