BEGIN:VCALENDAR
VERSION:2.0
PRODID:-//Queen Valley Church - ECPv6.15.20//NONSGML v1.0//EN
CALSCALE:GREGORIAN
METHOD:PUBLISH
X-ORIGINAL-URL:https://queenvalleychurch.com
X-WR-CALDESC:Events for Queen Valley Church
REFRESH-INTERVAL;VALUE=DURATION:PT1H
X-Robots-Tag:noindex
X-PUBLISHED-TTL:PT1H
BEGIN:VTIMEZONE
TZID:America/Phoenix
BEGIN:STANDARD
TZOFFSETFROM:-0700
TZOFFSETTO:-0700
TZNAME:MST
DTSTART:20200101T000000
END:STANDARD
END:VTIMEZONE
BEGIN:VEVENT
DTSTART;TZID=America/Phoenix:20211205T090000
DTEND;TZID=America/Phoenix:20211205T120000
DTSTAMP:20260422T220756
CREATED:20211015T182850Z
LAST-MODIFIED:20211203T132954Z
UID:1878-1638694800-1638705600@queenvalleychurch.com
SUMMARY:SUNDAY MEETING AND FELLOWSHIP
DESCRIPTION:Join us just as you are here at the Church At Queen Valley every Sunday\, 9:00am for our meeting\, Bible teaching\, and sharing. \nFollowing our meeting spend time getting to know us with fellowship time and Bible discussion. \n \nBulletin 12 05 21 \n  \n  \n 
URL:https://queenvalleychurch.com/event/sunday-meeting-and-fellowship-11/
LOCATION:The Church At Queen Valley\, 241 N. Queen Anne Drive\, Queen Valley\, 85118\, United States
END:VEVENT
END:VCALENDAR