BEGIN:VCALENDAR
VERSION:2.0
PRODID:-//Queen Valley Church - ECPv6.15.20//NONSGML v1.0//EN
CALSCALE:GREGORIAN
METHOD:PUBLISH
X-ORIGINAL-URL:https://queenvalleychurch.com
X-WR-CALDESC:Events for Queen Valley Church
REFRESH-INTERVAL;VALUE=DURATION:PT1H
X-Robots-Tag:noindex
X-PUBLISHED-TTL:PT1H
BEGIN:VTIMEZONE
TZID:UTC
BEGIN:STANDARD
TZOFFSETFROM:+0000
TZOFFSETTO:+0000
TZNAME:UTC
DTSTART:20210101T000000
END:STANDARD
END:VTIMEZONE
BEGIN:VEVENT
DTSTART;TZID=UTC:20220220T090000
DTEND;TZID=UTC:20220220T103000
DTSTAMP:20260422T183634
CREATED:20211229T222404Z
LAST-MODIFIED:20220218T205006Z
UID:1978-1645347600-1645353000@queenvalleychurch.com
SUMMARY:Sunday Meeting And Fellowship
DESCRIPTION:  \n \nJoin us the Church At Queen Valley\, just as you are\, every Sunday at 9:00am for our meeting\, Bible teaching and sharing.  Following our meeting stay and enjoy coffee and fellowship and maybe a few snacks\, and feel free to stay for our Bible discussion at 11:00am. \n \n 
URL:https://queenvalleychurch.com/event/sunday-meeting-and-fellowship-23/
LOCATION:The Church At Queen Valley\, 241 N. Queen Anne Drive\, Queen Valley\, 85118\, United States
CATEGORIES:Our Events,Upcoming Events
END:VEVENT
END:VCALENDAR