BEGIN:VCALENDAR
VERSION:2.0
PRODID:-//Queen Valley Church - ECPv6.15.20//NONSGML v1.0//EN
CALSCALE:GREGORIAN
METHOD:PUBLISH
X-ORIGINAL-URL:https://queenvalleychurch.com
X-WR-CALDESC:Events for Queen Valley Church
REFRESH-INTERVAL;VALUE=DURATION:PT1H
X-Robots-Tag:noindex
X-PUBLISHED-TTL:PT1H
BEGIN:VTIMEZONE
TZID:America/Phoenix
BEGIN:STANDARD
TZOFFSETFROM:-0700
TZOFFSETTO:-0700
TZNAME:MST
DTSTART:20210101T000000
END:STANDARD
END:VTIMEZONE
BEGIN:VEVENT
DTSTART;TZID=America/Phoenix:20220508T093000
DTEND;TZID=America/Phoenix:20220508T103000
DTSTAMP:20260422T141010
CREATED:20220429T192406Z
LAST-MODIFIED:20220429T192406Z
UID:2067-1652002200-1652005800@queenvalleychurch.com
SUMMARY:The Church At Queen Valley Sunday Meeting
DESCRIPTION:  \nThis Sunday is Mother’s Day\, join us the Church At Queen Valley\, just as you are\, every Sunday at 9:00am for our meeting\, Bible teaching and sharing.  We are celebrating the Mother’s in our meeting and guess what – following our meeting today we are having our covered dish luncheon.  No need to bring anything except you. \nIf you cannot join us in person be sure to find us on our Facebook page\, The Church at Queen Valley\, or our YouTube Channel\, The Church at Queen Valley – we live stream on both.
URL:https://queenvalleychurch.com/event/the-church-at-queen-valley-sunday-meeting-3/
LOCATION:The Church At Queen Valley\, 241 N. Queen Anne Drive\, Queen Valley\, 85118\, United States
END:VEVENT
BEGIN:VEVENT
DTSTART;TZID=America/Phoenix:20220508T103000
DTEND;TZID=America/Phoenix:20220508T123000
DTSTAMP:20260422T141010
CREATED:20211227T222925Z
LAST-MODIFIED:20211227T222925Z
UID:1954-1652005800-1652013000@queenvalleychurch.com
SUMMARY:Second Sunday Covered Dish
DESCRIPTION:The Church At Queen Valley enjoys our fellowship time.  That is why every second Sunday of the month\, after our meetings we share a covered dish and conservation.  Plan on joining us this Sunday! \nOLYMPUS DIGITAL CAMERA
URL:https://queenvalleychurch.com/event/second-sunday-covered-dish-8/
LOCATION:The Church At Queen Valley\, 241 N. Queen Anne Drive\, Queen Valley\, 85118\, United States
CATEGORIES:Our Events,Upcoming Events
END:VEVENT
END:VCALENDAR