BEGIN:VCALENDAR
VERSION:2.0
PRODID:-//Queen Valley Church - ECPv6.15.20//NONSGML v1.0//EN
CALSCALE:GREGORIAN
METHOD:PUBLISH
X-ORIGINAL-URL:https://queenvalleychurch.com
X-WR-CALDESC:Events for Queen Valley Church
REFRESH-INTERVAL;VALUE=DURATION:PT1H
X-Robots-Tag:noindex
X-PUBLISHED-TTL:PT1H
BEGIN:VTIMEZONE
TZID:UTC
BEGIN:STANDARD
TZOFFSETFROM:+0000
TZOFFSETTO:+0000
TZNAME:UTC
DTSTART:20210101T000000
END:STANDARD
END:VTIMEZONE
BEGIN:VEVENT
DTSTART;TZID=UTC:20220831T080000
DTEND;TZID=UTC:20220831T090000
DTSTAMP:20260422T072940
CREATED:20220704T235114Z
LAST-MODIFIED:20220705T223441Z
UID:2193-1661932800-1661936400@queenvalleychurch.com
SUMMARY:BIBLE STUDY EVERY WEDNESDAY
DESCRIPTION:Grow together by digging into the biblical principles shared in a recent sermon or maybe something that is stirring in your mind. \nThis study provides a great place to forge friendships and deepen your sense of community in God’s Word. \nJoin us every Wednesday morning 1107 W\, 1111 US-60\, Superior AZ \nhttps://www.buckboardcitycafe.com/at the Buckboard Cafe in Superior.
URL:https://queenvalleychurch.com/event/bible-study-every-wednesday-9/
LOCATION:The Buckboard Cafe\, Superior AZ\, 1107 W\, 1111 US 60\, Superior\, AZ\, 85173\, United States
CATEGORIES:Our Events,Upcoming Events
END:VEVENT
END:VCALENDAR