BEGIN:VCALENDAR
VERSION:2.0
PRODID:-//Queen Valley Church - ECPv6.15.20//NONSGML v1.0//EN
CALSCALE:GREGORIAN
METHOD:PUBLISH
X-ORIGINAL-URL:https://queenvalleychurch.com
X-WR-CALDESC:Events for Queen Valley Church
REFRESH-INTERVAL;VALUE=DURATION:PT1H
X-Robots-Tag:noindex
X-PUBLISHED-TTL:PT1H
BEGIN:VTIMEZONE
TZID:America/Phoenix
BEGIN:STANDARD
TZOFFSETFROM:-0700
TZOFFSETTO:-0700
TZNAME:MST
DTSTART:20210101T000000
END:STANDARD
END:VTIMEZONE
BEGIN:VEVENT
DTSTART;TZID=America/Phoenix:20221012T090000
DTEND;TZID=America/Phoenix:20221012T113000
DTSTAMP:20260422T021552
CREATED:20221014T190228Z
LAST-MODIFIED:20221014T190228Z
UID:2236-1665565200-1665574200@queenvalleychurch.com
SUMMARY:BIBLE STUDY AT THE WINDMILL WINERY
DESCRIPTION:Join us for this midweek Bible Study. Every Wednesday starting at 9:00am we meet the Florence Windmill Winery for an in-depth Bible Study and discussion.  We meet back in the Lake House\, look for signs. \n \n 
URL:https://queenvalleychurch.com/event/bible-study-at-the-windmill-winery-4/
LOCATION:Windmill Winery Lakehouse\, 1140 W Butte Ave\, Florence\, AZ\, 85132\, United States
CATEGORIES:Our Events,Upcoming Events
END:VEVENT
END:VCALENDAR