BEGIN:VCALENDAR
VERSION:2.0
PRODID:-//Queen Valley Church - ECPv6.15.20//NONSGML v1.0//EN
CALSCALE:GREGORIAN
METHOD:PUBLISH
X-WR-CALNAME:Queen Valley Church
X-ORIGINAL-URL:https://queenvalleychurch.com
X-WR-CALDESC:Events for Queen Valley Church
REFRESH-INTERVAL;VALUE=DURATION:PT1H
X-Robots-Tag:noindex
X-PUBLISHED-TTL:PT1H
BEGIN:VTIMEZONE
TZID:UTC
BEGIN:STANDARD
TZOFFSETFROM:+0000
TZOFFSETTO:+0000
TZNAME:UTC
DTSTART:20210101T000000
END:STANDARD
END:VTIMEZONE
BEGIN:VEVENT
DTSTART;TZID=UTC:20221026T080000
DTEND;TZID=UTC:20221026T170000
DTSTAMP:20260422T021007
CREATED:20221014T191327Z
LAST-MODIFIED:20221014T191327Z
UID:2242-1666771200-1666803600@queenvalleychurch.com
SUMMARY:BIBLE STUDY AT THE WINDMILL WINERY
DESCRIPTION:Join us for this midweek Bible Study. Every Wednesday starting at 9:00am we meet the Florence Windmill Winery for an in-depth Bible Study and discussion.  We meet in the Lake House\, watch for the signs.
URL:https://queenvalleychurch.com/event/bible-study-at-the-windmill-winery-7/
LOCATION:Windmill Winery Lakehouse\, 1140 W Butte Ave\, Florence\, AZ\, 85132\, United States
CATEGORIES:Our Events,Upcoming Events
END:VEVENT
END:VCALENDAR