BEGIN:VCALENDAR
VERSION:2.0
PRODID:-//Queen Valley Church - ECPv6.15.20//NONSGML v1.0//EN
CALSCALE:GREGORIAN
METHOD:PUBLISH
X-ORIGINAL-URL:https://queenvalleychurch.com
X-WR-CALDESC:Events for Queen Valley Church
REFRESH-INTERVAL;VALUE=DURATION:PT1H
X-Robots-Tag:noindex
X-PUBLISHED-TTL:PT1H
BEGIN:VTIMEZONE
TZID:America/Phoenix
BEGIN:STANDARD
TZOFFSETFROM:-0700
TZOFFSETTO:-0700
TZNAME:MST
DTSTART:20220101T000000
END:STANDARD
END:VTIMEZONE
BEGIN:VEVENT
DTSTART;TZID=America/Phoenix:20230221T100000
DTEND;TZID=America/Phoenix:20230221T110000
DTSTAMP:20260421T191421
CREATED:20221221T210534Z
LAST-MODIFIED:20221221T210534Z
UID:2413-1676973600-1676977200@queenvalleychurch.com
SUMMARY:PRAYER AND FELLOWSHIP
DESCRIPTION:Join us on Tuesday mornings for prayer and fellowship in our parlor.
URL:https://queenvalleychurch.com/event/prayer-and-fellowship-12/
LOCATION:The Church At Queen Valley\, 241 N. Queen Anne Drive\, Queen Valley\, 85118\, United States
CATEGORIES:Our Events,Upcoming Events
END:VEVENT
END:VCALENDAR