BEGIN:VCALENDAR
VERSION:2.0
PRODID:-//Queen Valley Church - ECPv6.15.20//NONSGML v1.0//EN
CALSCALE:GREGORIAN
METHOD:PUBLISH
X-WR-CALNAME:Queen Valley Church
X-ORIGINAL-URL:https://queenvalleychurch.com
X-WR-CALDESC:Events for Queen Valley Church
REFRESH-INTERVAL;VALUE=DURATION:PT1H
X-Robots-Tag:noindex
X-PUBLISHED-TTL:PT1H
BEGIN:VTIMEZONE
TZID:America/Phoenix
BEGIN:STANDARD
TZOFFSETFROM:-0700
TZOFFSETTO:-0700
TZNAME:MST
DTSTART:20220101T000000
END:STANDARD
END:VTIMEZONE
BEGIN:VEVENT
DTSTART;TZID=America/Phoenix:20230312T080000
DTEND;TZID=America/Phoenix:20230312T170000
DTSTAMP:20260421T171852
CREATED:20221219T221012Z
LAST-MODIFIED:20221219T221012Z
UID:2377-1678608000-1678640400@queenvalleychurch.com
SUMMARY:SECOND SUNDAY COVERED DISH LUNCHEON
DESCRIPTION:The Second Sunday Covered Dish Luncheon is today.  The sign up sheet can be found in Fellowship Hall but if you are visiting or plan to visit please just come and join us.
URL:https://queenvalleychurch.com/event/second-sunday-covered-dish-luncheon-8/
LOCATION:The Church At Queen Valley\, 241 N. Queen Anne Drive\, Queen Valley\, 85118\, United States
CATEGORIES:Our Events,Upcoming Events
END:VEVENT
END:VCALENDAR