BEGIN:VCALENDAR
VERSION:2.0
PRODID:-//Queen Valley Church - ECPv6.15.20//NONSGML v1.0//EN
CALSCALE:GREGORIAN
METHOD:PUBLISH
X-ORIGINAL-URL:https://queenvalleychurch.com
X-WR-CALDESC:Events for Queen Valley Church
REFRESH-INTERVAL;VALUE=DURATION:PT1H
X-Robots-Tag:noindex
X-PUBLISHED-TTL:PT1H
BEGIN:VTIMEZONE
TZID:America/Phoenix
BEGIN:STANDARD
TZOFFSETFROM:-0700
TZOFFSETTO:-0700
TZNAME:MST
DTSTART:20220101T000000
END:STANDARD
END:VTIMEZONE
BEGIN:VEVENT
DTSTART;TZID=America/Phoenix:20230514T090000
DTEND;TZID=America/Phoenix:20230514T104500
DTSTAMP:20260421T131528
CREATED:20230415T200820Z
LAST-MODIFIED:20230415T200820Z
UID:2452-1684054800-1684061100@queenvalleychurch.com
SUMMARY:THE CHURCH AT QUEEN VALLEY SUNDAY MEETING
DESCRIPTION:The Church At Queen Valley looks forward to seeing you – in our Sunday Meeting\, during our fellowship time\, in our Bible discussion or at one of our many studies (Bible and Disciple). \nJoin us the Church At Queen Valley\, just as you are\, every Sunday at 9:00am for our meeting\, Bible teaching and sharing. Following our meeting stay and enjoy coffee and fellowship and maybe a few snacks\, then feel free to stay for our Bible discussion at 11:00am. \nIf you cannot join us in person be sure to find us on our Facebook page\, The Church at Queen Valley\, or our YouTube Channel\, The Church at Queen Valley – we live stream on both. \nWe are committed to providing a place to meet\, to hear and learn from God’s word\, the Bible\, and grow as we learn to love God and love our neighbor.
URL:https://queenvalleychurch.com/event/the-church-at-queen-valley-sunday-meeting-47/
LOCATION:The Church At Queen Valley\, 241 N. Queen Anne Drive\, Queen Valley\, 85118\, United States
CATEGORIES:Our Events,Upcoming Events
ATTACH;FMTTYPE=image/jpeg:https://queenvalleychurch.com/wp-content/uploads/2023/04/38422281_10214673175400750_6757529903748349952_n.jpg
END:VEVENT
BEGIN:VEVENT
DTSTART;TZID=America/Phoenix:20230514T104500
DTEND;TZID=America/Phoenix:20230514T120000
DTSTAMP:20260421T131528
CREATED:20230503T203924Z
LAST-MODIFIED:20230503T203924Z
UID:2527-1684061100-1684065600@queenvalleychurch.com
SUMMARY:SECOND SUNDAY CARRY IN LUNCHEON
DESCRIPTION:OLYMPUS DIGITAL CAMERA\nJoin us after Church (10:45am) for our Second Sunday Carry In Luncheon.  Everyone is welcome to stay for food and fellowship. \nPlus this Sunday is Mother’s Day\, bring your mother for a special treat!
URL:https://queenvalleychurch.com/event/second-sunday-carry-in-luncheon/
LOCATION:The Church At Queen Valley\, 241 N. Queen Anne Drive\, Queen Valley\, 85118\, United States
CATEGORIES:Our Events,Upcoming Events
END:VEVENT
BEGIN:VEVENT
DTSTART;TZID=America/Phoenix:20230514T180000
DTEND;TZID=America/Phoenix:20230514T194500
DTSTAMP:20260421T131528
CREATED:20230428T222007Z
LAST-MODIFIED:20230428T222007Z
UID:2504-1684087200-1684093500@queenvalleychurch.com
SUMMARY:SUNDAY NIGHT CHURCH IN SUPERIOR
DESCRIPTION:Join us every Sunday evening at 6:00pm in Superior for our Sunday night service.  This is not a repeat of the Sunday message! \nSee you at 199 North Lobb Avenue\, Superior.
URL:https://queenvalleychurch.com/event/sunday-night-church-in-superior-2/
LOCATION:SUNDAY NIGHT SERVICE IN SUPERIOR\, 199 N. Lobb Avenue\, Superior\, AZ\, 85173\, United States
CATEGORIES:Our Events,Upcoming Events
END:VEVENT
END:VCALENDAR