BEGIN:VCALENDAR
VERSION:2.0
PRODID:-//Queen Valley Church - ECPv6.15.20//NONSGML v1.0//EN
CALSCALE:GREGORIAN
METHOD:PUBLISH
X-WR-CALNAME:Queen Valley Church
X-ORIGINAL-URL:https://queenvalleychurch.com
X-WR-CALDESC:Events for Queen Valley Church
REFRESH-INTERVAL;VALUE=DURATION:PT1H
X-Robots-Tag:noindex
X-PUBLISHED-TTL:PT1H
BEGIN:VTIMEZONE
TZID:UTC
BEGIN:STANDARD
TZOFFSETFROM:+0000
TZOFFSETTO:+0000
TZNAME:UTC
DTSTART:20220101T000000
END:STANDARD
END:VTIMEZONE
BEGIN:VEVENT
DTSTART;TZID=UTC:20230608T180000
DTEND;TZID=UTC:20230608T203000
DTSTAMP:20260421T112753
CREATED:20230503T204814Z
LAST-MODIFIED:20230503T204814Z
UID:2534-1686247200-1686256200@queenvalleychurch.com
SUMMARY:BIBLE CONFERENCE HAZELTON MINNESOTA
DESCRIPTION:Join us June 6\,7\,8 from 6-8:30pm at the Hazelton Town Hall located at 24248 US Highway 169\, Aitkin MN 56431
URL:https://queenvalleychurch.com/event/bible-conference-hazelton-minnesota-2/
LOCATION:Hazelton Town Hall\, 24248 Highway 169\, Aitkin MN\, 24248 Highway 169\, Atkin\, Minnesota
CATEGORIES:Our Events,Upcoming Events
END:VEVENT
END:VCALENDAR