BEGIN:VCALENDAR
VERSION:2.0
PRODID:-//Queen Valley Church - ECPv6.15.20//NONSGML v1.0//EN
CALSCALE:GREGORIAN
METHOD:PUBLISH
X-ORIGINAL-URL:https://queenvalleychurch.com
X-WR-CALDESC:Events for Queen Valley Church
REFRESH-INTERVAL;VALUE=DURATION:PT1H
X-Robots-Tag:noindex
X-PUBLISHED-TTL:PT1H
BEGIN:VTIMEZONE
TZID:America/Phoenix
BEGIN:STANDARD
TZOFFSETFROM:-0700
TZOFFSETTO:-0700
TZNAME:MST
DTSTART:20220101T000000
END:STANDARD
END:VTIMEZONE
BEGIN:VEVENT
DTSTART;TZID=America/Phoenix:20230625T180000
DTEND;TZID=America/Phoenix:20230625T193000
DTSTAMP:20260421T113059
CREATED:20230502T220531Z
LAST-MODIFIED:20230502T220531Z
UID:2517-1687716000-1687721400@queenvalleychurch.com
SUMMARY:SUNDAY NIGHT CHURCH IN SUPERIOR
DESCRIPTION:Join us every Sunday evening at 6:00pm in Superior for our Sunday night service.  This is not a repeat of the Sunday message! \nSee you at 199 North Lobb Avenue\, Superior AZ
URL:https://queenvalleychurch.com/event/sunday-night-church-in-superior-6/
LOCATION:SUNDAY NIGHT SERVICE IN SUPERIOR\, 199 N. Lobb Avenue\, Superior\, AZ\, 85173\, United States
CATEGORIES:Our Events,Upcoming Events
END:VEVENT
END:VCALENDAR