BEGIN:VCALENDAR
VERSION:2.0
PRODID:-//Queen Valley Church - ECPv6.15.20//NONSGML v1.0//EN
CALSCALE:GREGORIAN
METHOD:PUBLISH
X-WR-CALNAME:Queen Valley Church
X-ORIGINAL-URL:https://queenvalleychurch.com
X-WR-CALDESC:Events for Queen Valley Church
REFRESH-INTERVAL;VALUE=DURATION:PT1H
X-Robots-Tag:noindex
X-PUBLISHED-TTL:PT1H
BEGIN:VTIMEZONE
TZID:UTC
BEGIN:STANDARD
TZOFFSETFROM:+0000
TZOFFSETTO:+0000
TZNAME:UTC
DTSTART:20220101T000000
END:STANDARD
END:VTIMEZONE
BEGIN:VEVENT
DTSTART;TZID=UTC:20230728T080000
DTEND;TZID=UTC:20230728T170000
DTSTAMP:20260419T151121
CREATED:20230705T184828Z
LAST-MODIFIED:20230705T184828Z
UID:2602-1690531200-1690563600@queenvalleychurch.com
SUMMARY:FRIDAY BIBLE DISCUSSION - BUCKBOARD CAFE SUPERIOR AZ
DESCRIPTION:Join us for our Bible Study\, which is temporarily meeting on FRIDAYs at the Buckboard Cafe in Superior Arizona.  We will start at 7:00am for breakfast and 7:30am for discussion.  The Buckboard is located on US 60 in Superior Arizona.
URL:https://queenvalleychurch.com/event/friday-bible-discussion-buckboard-cafe-superior-az/
LOCATION:The Buckboard Cafe\, Superior AZ\, 1107 W\, 1111 US 60\, Superior\, AZ\, 85173\, United States
CATEGORIES:Our Events,Upcoming Events
END:VEVENT
END:VCALENDAR