BEGIN:VCALENDAR
VERSION:2.0
PRODID:-//Queen Valley Church - ECPv6.15.20//NONSGML v1.0//EN
CALSCALE:GREGORIAN
METHOD:PUBLISH
X-WR-CALNAME:Queen Valley Church
X-ORIGINAL-URL:https://queenvalleychurch.com
X-WR-CALDESC:Events for Queen Valley Church
REFRESH-INTERVAL;VALUE=DURATION:PT1H
X-Robots-Tag:noindex
X-PUBLISHED-TTL:PT1H
BEGIN:VTIMEZONE
TZID:America/Phoenix
BEGIN:STANDARD
TZOFFSETFROM:-0700
TZOFFSETTO:-0700
TZNAME:MST
DTSTART:20220101T000000
END:STANDARD
END:VTIMEZONE
BEGIN:VEVENT
DTSTART;TZID=America/Phoenix:20230402T090000
DTEND;TZID=America/Phoenix:20230402T104500
DTSTAMP:20260420T215911
CREATED:20230415T200508Z
LAST-MODIFIED:20230415T200508Z
UID:2448-1680426000-1680432300@queenvalleychurch.com
SUMMARY:PALM SUNDAY - THE CHURCH AT QUEEN VALLEY SUNDAY MEETING
DESCRIPTION:The Church At Queen Valley looks forward to seeing you – in our Sunday Meeting\, during our fellowship time\, in our Bible discussion or at one of our many studies (Bible and Disciple). \nJoin us the Church At Queen Valley\, just as you are\, every Sunday at 9:00am for our meeting\, Bible teaching and sharing. Following our meeting stay and enjoy coffee and fellowship and maybe a few snacks\, then feel free to stay for our Bible discussion at 11:00am. \nIf you cannot join us in person be sure to find us on our Facebook page\, The Church at Queen Valley\, or our YouTube Channel\, The Church at Queen Valley – we live stream on both. \nWe are committed to providing a place to meet\, to hear and learn from God’s word\, the Bible\, and grow as we learn to love God and love our neighbor.
URL:https://queenvalleychurch.com/event/palm-sunday-the-church-at-queen-valley-sunday-meeting/
LOCATION:The Church At Queen Valley\, 241 N. Queen Anne Drive\, Queen Valley\, 85118\, United States
CATEGORIES:Our Events,Upcoming Events
ATTACH;FMTTYPE=image/jpeg:https://queenvalleychurch.com/wp-content/uploads/2023/04/38422281_10214673175400750_6757529903748349952_n.jpg
END:VEVENT
BEGIN:VEVENT
DTSTART;TZID=America/Phoenix:20230409T090000
DTEND;TZID=America/Phoenix:20230409T104500
DTSTAMP:20260420T215911
CREATED:20230415T195914Z
LAST-MODIFIED:20230415T195914Z
UID:2446-1681030800-1681037100@queenvalleychurch.com
SUMMARY:HAPPY EASTER - THE CHURCH AT QUEEN VALLEY SUNDAY MEETING
DESCRIPTION:The Church At Queen Valley looks forward to seeing you – in our Sunday Meeting\, during our fellowship time\, in our Bible discussion or at one of our many studies (Bible and Disciple). \nJoin us the Church At Queen Valley\, just as you are\, every Sunday at 9:00am for our meeting\, Bible teaching and sharing. Following our meeting stay and enjoy coffee and fellowship and maybe a few snacks\, then feel free to stay for our Bible discussion at 11:00am. \nIf you cannot join us in person be sure to find us on our Facebook page\, The Church at Queen Valley\, or our YouTube Channel\, The Church at Queen Valley – we live stream on both. \nWe are committed to providing a place to meet\, to hear and learn from God’s word\, the Bible\, and grow as we learn to love God and love our neighbor.
URL:https://queenvalleychurch.com/event/happy-easter-the-church-at-queen-valley-sunday-meeting/
LOCATION:The Church At Queen Valley\, 241 N. Queen Anne Drive\, Queen Valley\, 85118\, United States
CATEGORIES:Our Events,Upcoming Events
END:VEVENT
BEGIN:VEVENT
DTSTART;TZID=America/Phoenix:20230423T090000
DTEND;TZID=America/Phoenix:20230423T104500
DTSTAMP:20260420T215911
CREATED:20230415T195414Z
LAST-MODIFIED:20230415T195414Z
UID:2440-1682240400-1682246700@queenvalleychurch.com
SUMMARY:THE CHURCH AT QUEEN VALLEY SUNDAY MEETING
DESCRIPTION:  \nThe Church At Queen Valley looks forward to seeing you – in our Sunday Meeting\, during our fellowship time\, in our Bible discussion or at one of our many studies (Bible and Disciple). \nJoin us the Church At Queen Valley\, just as you are\, every Sunday at 9:00am for our meeting\, Bible teaching and sharing. Following our meeting stay and enjoy coffee and fellowship and maybe a few snacks\, then feel free to stay for our Bible discussion at 11:00am. \nIf you cannot join us in person be sure to find us on our Facebook page\, The Church at Queen Valley\, or our YouTube Channel\, The Church at Queen Valley – we live stream on both. \nWe are committed to providing a place to meet\, to hear and learn from God’s word\, the Bible\, and grow as we learn to love God and love our neighbor.
URL:https://queenvalleychurch.com/event/the-church-at-queen-valley-sunday-meeting-44/
LOCATION:The Church At Queen Valley\, 241 N. Queen Anne Drive\, Queen Valley\, 85118\, United States
END:VEVENT
BEGIN:VEVENT
DTSTART;TZID=America/Phoenix:20230430T090000
DTEND;TZID=America/Phoenix:20230430T104500
DTSTAMP:20260420T215911
CREATED:20230415T195551Z
LAST-MODIFIED:20230415T195551Z
UID:2442-1682845200-1682851500@queenvalleychurch.com
SUMMARY:THE CHURCH AT QUEEN VALLEY SUNDAY MEETING
DESCRIPTION:The Church At Queen Valley looks forward to seeing you – in our Sunday Meeting\, during our fellowship time\, in our Bible discussion or at one of our many studies (Bible and Disciple). \nJoin us the Church At Queen Valley\, just as you are\, every Sunday at 9:00am for our meeting\, Bible teaching and sharing. Following our meeting stay and enjoy coffee and fellowship and maybe a few snacks\, then feel free to stay for our Bible discussion at 11:00am. \nIf you cannot join us in person be sure to find us on our Facebook page\, The Church at Queen Valley\, or our YouTube Channel\, The Church at Queen Valley – we live stream on both. \nWe are committed to providing a place to meet\, to hear and learn from God’s word\, the Bible\, and grow as we learn to love God and love our neighbor.
URL:https://queenvalleychurch.com/event/the-church-at-queen-valley-sunday-meeting-45/
LOCATION:The Church At Queen Valley\, 241 N. Queen Anne Drive\, Queen Valley\, 85118\, United States
CATEGORIES:Our Events,Upcoming Events
END:VEVENT
END:VCALENDAR